BEGIN:VCALENDAR
VERSION:2.0
PRODID:-//Equine-Assisted Therapies of South Florida - ECPv6.7.1//NONSGML v1.0//EN
CALSCALE:GREGORIAN
METHOD:PUBLISH
X-WR-CALNAME:Equine-Assisted Therapies of South Florida
X-ORIGINAL-URL:https://equineatsf.org
X-WR-CALDESC:Events for Equine-Assisted Therapies of South Florida
REFRESH-INTERVAL;VALUE=DURATION:PT1H
X-Robots-Tag:noindex
X-PUBLISHED-TTL:PT1H
BEGIN:VTIMEZONE
TZID:America/New_York
BEGIN:DAYLIGHT
TZOFFSETFROM:-0500
TZOFFSETTO:-0400
TZNAME:EDT
DTSTART:20220313T070000
END:DAYLIGHT
BEGIN:STANDARD
TZOFFSETFROM:-0400
TZOFFSETTO:-0500
TZNAME:EST
DTSTART:20221106T060000
END:STANDARD
END:VTIMEZONE
BEGIN:VEVENT
DTSTART;VALUE=DATE:20220926
DTEND;VALUE=DATE:20221003
DTSTAMP:20260423T062930
CREATED:20220705T185922Z
LAST-MODIFIED:20220705T185922Z
UID:5187-1664175600-1664693999@equineatsf.org
SUMMARY:Fall 2022 - Program Week 5
DESCRIPTION:
URL:https://equineatsf.org/calendar/fall-2022-program-week-5/
LOCATION:EATSF Campus\, 3601 W Sample Rd\, Coconut Creek\, FL\, 33073
CATEGORIES:Program Dates
END:VEVENT
BEGIN:VEVENT
DTSTART;VALUE=DATE:20221003
DTEND;VALUE=DATE:20221010
DTSTAMP:20260423T062930
CREATED:20220705T190021Z
LAST-MODIFIED:20220705T190021Z
UID:5189-1664780400-1665298799@equineatsf.org
SUMMARY:Fall 2022 - Program Week 6
DESCRIPTION:
URL:https://equineatsf.org/calendar/fall-2022-program-week-6/
LOCATION:EATSF Campus\, 3601 W Sample Rd\, Coconut Creek\, FL\, 33073
CATEGORIES:Program Dates
END:VEVENT
BEGIN:VEVENT
DTSTART;TZID=America/New_York:20221004T130000
DTEND;TZID=America/New_York:20221004T143000
DTSTAMP:20260423T062930
CREATED:20220705T184156Z
LAST-MODIFIED:20220705T184203Z
UID:5173-1664888400-1664893800@equineatsf.org
SUMMARY:October Volunteer Orientation
DESCRIPTION:Everyone starts somewhere and our New Volunteer Orientation is the first stop for EATSF volunteers. \nBegin your journey with us!  You will get a brief orientation to the organization\, its history and the benefits of equine therapy. During the orientation you will learn about barn safety\, different volunteer opportunities and days you can serve\, and then you will learn how to be a sidewalker for one of our riding lessons.  \nYou must be 14 or older to volunteer at EATSF. \nTo sign up for orientation\, please RSVP to Molly at molly@equineatsf.org or call us at 954-974-2007. Download the Volunteer Application Form.
URL:https://equineatsf.org/calendar/october-volunteer-orientation/
LOCATION:EATSF Campus\, 3601 W Sample Rd\, Coconut Creek\, FL\, 33073
CATEGORIES:Volunteer Training
ATTACH;FMTTYPE=image/jpeg:https://equineatsf.org/wp-content/uploads/2022/07/DSC_2326A-scaled.jpg
END:VEVENT
BEGIN:VEVENT
DTSTART;VALUE=DATE:20221010
DTEND;VALUE=DATE:20221017
DTSTAMP:20260423T062930
CREATED:20220705T190143Z
LAST-MODIFIED:20220705T190143Z
UID:5191-1665385200-1665903599@equineatsf.org
SUMMARY:Fall 2022 - Program Week 7
DESCRIPTION:
URL:https://equineatsf.org/calendar/fall-2022-program-week-7/
LOCATION:EATSF Campus\, 3601 W Sample Rd\, Coconut Creek\, FL\, 33073
CATEGORIES:Program Dates
END:VEVENT
BEGIN:VEVENT
DTSTART;VALUE=DATE:20221017
DTEND;VALUE=DATE:20221024
DTSTAMP:20260423T062930
CREATED:20220705T190245Z
LAST-MODIFIED:20220705T190245Z
UID:5193-1665990000-1666508399@equineatsf.org
SUMMARY:Fall 2022 - Program Week 8
DESCRIPTION:
URL:https://equineatsf.org/calendar/fall-2022-program-week-8/
LOCATION:EATSF Campus\, 3601 W Sample Rd\, Coconut Creek\, FL\, 33073
CATEGORIES:Program Dates
END:VEVENT
BEGIN:VEVENT
DTSTART;VALUE=DATE:20221024
DTEND;VALUE=DATE:20221031
DTSTAMP:20260423T062930
CREATED:20220705T190421Z
LAST-MODIFIED:20220705T190421Z
UID:5195-1666594800-1667113199@equineatsf.org
SUMMARY:Fall 2022 - Program Week 9
DESCRIPTION:
URL:https://equineatsf.org/calendar/fall-2022-program-week-9/
LOCATION:EATSF Campus\, 3601 W Sample Rd\, Coconut Creek\, FL\, 33073
CATEGORIES:Program Dates
END:VEVENT
BEGIN:VEVENT
DTSTART;TZID=America/New_York:20221029T040000
DTEND;TZID=America/New_York:20221029T080000
DTSTAMP:20260423T062930
CREATED:20220705T192041Z
LAST-MODIFIED:20220705T194214Z
UID:5207-1667016000-1667030400@equineatsf.org
SUMMARY:Halloween Horse Show
DESCRIPTION:
URL:https://equineatsf.org/calendar/halloween-horse-show/
LOCATION:EATSF Campus\, 3601 W Sample Rd\, Coconut Creek\, FL\, 33073
CATEGORIES:Program Dates
END:VEVENT
BEGIN:VEVENT
DTSTART;VALUE=DATE:20221031
DTEND;VALUE=DATE:20221107
DTSTAMP:20260423T062930
CREATED:20220705T190546Z
LAST-MODIFIED:20220705T190546Z
UID:5197-1667199600-1667721599@equineatsf.org
SUMMARY:Horseshoe Hoedown Prep Week - No Classes
DESCRIPTION:
URL:https://equineatsf.org/calendar/horseshoe-hoedown-prep-week-no-classes/
LOCATION:EATSF Campus\, 3601 W Sample Rd\, Coconut Creek\, FL\, 33073
CATEGORIES:Program Dates
ORGANIZER;CN="David Plath":MAILTO:david@equineatsf.org
END:VEVENT
END:VCALENDAR