BEGIN:VCALENDAR
VERSION:2.0
PRODID:-//Equine-Assisted Therapies of South Florida - ECPv6.7.1//NONSGML v1.0//EN
CALSCALE:GREGORIAN
METHOD:PUBLISH
X-ORIGINAL-URL:https://equineatsf.org
X-WR-CALDESC:Events for Equine-Assisted Therapies of South Florida
REFRESH-INTERVAL;VALUE=DURATION:PT1H
X-Robots-Tag:noindex
X-PUBLISHED-TTL:PT1H
BEGIN:VTIMEZONE
TZID:America/New_York
BEGIN:DAYLIGHT
TZOFFSETFROM:-0500
TZOFFSETTO:-0400
TZNAME:EDT
DTSTART:20240310T070000
END:DAYLIGHT
BEGIN:STANDARD
TZOFFSETFROM:-0400
TZOFFSETTO:-0500
TZNAME:EST
DTSTART:20241103T060000
END:STANDARD
END:VTIMEZONE
BEGIN:VEVENT
DTSTART;TZID=America/New_York:20240908T140000
DTEND;TZID=America/New_York:20240908T180000
DTSTAMP:20260424T045651
CREATED:20240903T142239Z
LAST-MODIFIED:20240903T142239Z
UID:7080-1725804000-1725818400@equineatsf.org
SUMMARY:Spinal Cord Injury Support Group of Broward Social
DESCRIPTION:Join the Spinal Cord Injury Support Group of Broward for their September Social \nSunday\, September 8th from 2:00p until 6:00p \nRSVP: 954-798-5668 (Call or Text) \n 
URL:https://equineatsf.org/calendar/spinal-cord-injury-support-group-of-broward-social/
LOCATION:EATSF Campus\, 3601 W Sample Rd\, Coconut Creek\, FL\, 33073
CATEGORIES:Awareness Event
END:VEVENT
BEGIN:VEVENT
DTSTART;TZID=America/New_York:20240920T173000
DTEND;TZID=America/New_York:20240920T190000
DTSTAMP:20260424T045651
CREATED:20240829T222321Z
LAST-MODIFIED:20240829T222321Z
UID:7058-1726853400-1726858800@equineatsf.org
SUMMARY:Ponies & Pints
DESCRIPTION:Join us for Ponies & Pints at the barn! \nCome out to enjoy your favorite libation and some good eats and see what Equine-Assisted Therapies of South Florida is all about! \nFriday\, September 20th from 5:30 p.m. until 7:00 p.m.  \nTo RSVP please contact Development Director\, Jennifer Mitchell at 954-974-2007 or jennifer@equineatsf.org \n 
URL:https://equineatsf.org/calendar/ponies-pints/
LOCATION:EATSF Campus\, 3601 W Sample Rd\, Coconut Creek\, FL\, 33073
CATEGORIES:Awareness Event
ORGANIZER;CN="Jennifer Mitchell":MAILTO:jennifer@equineatsf.org
END:VEVENT
END:VCALENDAR