BEGIN:VCALENDAR
VERSION:2.0
PRODID:-//Equine-Assisted Therapies of South Florida - ECPv6.7.1//NONSGML v1.0//EN
CALSCALE:GREGORIAN
METHOD:PUBLISH
X-WR-CALNAME:Equine-Assisted Therapies of South Florida
X-ORIGINAL-URL:https://equineatsf.org
X-WR-CALDESC:Events for Equine-Assisted Therapies of South Florida
REFRESH-INTERVAL;VALUE=DURATION:PT1H
X-Robots-Tag:noindex
X-PUBLISHED-TTL:PT1H
BEGIN:VTIMEZONE
TZID:America/New_York
BEGIN:DAYLIGHT
TZOFFSETFROM:-0500
TZOFFSETTO:-0400
TZNAME:EDT
DTSTART:20240310T070000
END:DAYLIGHT
BEGIN:STANDARD
TZOFFSETFROM:-0400
TZOFFSETTO:-0500
TZNAME:EST
DTSTART:20241103T060000
END:STANDARD
END:VTIMEZONE
BEGIN:VEVENT
DTSTART;TZID=America/New_York:20240304T080000
DTEND;TZID=America/New_York:20240309T170000
DTSTAMP:20260423T174250
CREATED:20240229T142439Z
LAST-MODIFIED:20240229T142524Z
UID:6605-1709539200-1710003600@equineatsf.org
SUMMARY:Winter 2024 Session: Make-Up Week 1
DESCRIPTION:Winter 2024 Session: Make-Up Week 1 \nMonday\, March 4th until Saturday\, March 9\, 2024 \nThursday\, March 7th \n\n11:00 a.m. (Deerfield Beach Middle School Only)\n3:30 p.m.\n4:30 p.m. \n5:30 p.m. \n\nFriday\, March 8th  \n\n11:00 a.m. \n1:00 p.m. \n3:30 p.m. \n4:30 p.m.\n5:30 p.m. \n\nSaturday\, March 9th  \n\nAll Saturday Lessons
URL:https://equineatsf.org/calendar/winter-2024-session-make-up-week-1/
LOCATION:EATSF Campus\, 3601 W Sample Rd\, Coconut Creek\, FL\, 33073
CATEGORIES:Program Dates
END:VEVENT
BEGIN:VEVENT
DTSTART;TZID=America/New_York:20240305T180000
DTEND;TZID=America/New_York:20240305T203000
DTSTAMP:20260423T174250
CREATED:20240124T145005Z
LAST-MODIFIED:20240209T234139Z
UID:6523-1709661600-1709670600@equineatsf.org
SUMMARY:New Volunteer Orientation and Sidewalker Training
DESCRIPTION:Begin your journey with us!\n \nNew volunteers will receive a brief orientation to the organization\, its history and the benefits of equine therapy. During the orientation you will learn about barn safety\, different volunteer opportunities and days you can serve! Volunteers will leave understanding how to be a sidewalker for one of our lessons.\n \nTo sign up\, email volunteer@equineatsf.org\, or call 954-974-2007.\n \nWear close-toed shoes and bring water with you!\n \nTuesday\, March 5\, 2024\n6:00 p.m. until 8:30 p.m. 
URL:https://equineatsf.org/calendar/new-volunteer-orientation-and-sidewalker-training-2/
LOCATION:EATSF Campus\, 3601 W Sample Rd\, Coconut Creek\, FL\, 33073
CATEGORIES:Volunteer Training
ORGANIZER;CN="EATSF Program Team":MAILTO:volunteer@equineatsf.org
END:VEVENT
END:VCALENDAR